BEGIN:VCALENDAR
VERSION:2.0
PRODID:-//ChamberMaster//Event Calendar 2.0//EN
METHOD:PUBLISH
X-PUBLISHED-TTL:P3D
REFRESH-INTERVAL:P3D
CALSCALE:GREGORIAN
BEGIN:VEVENT
DTSTART:20191211T220000Z
DTEND:20191212T000000Z
X-MICROSOFT-CDO-ALLDAYEVENT:FALSE
SUMMARY:Present Patrol
DESCRIPTION:Join us Wednesday December 11th\, from 4-6pm at our Kearney location as we celebrate Present Patrol! We will have FREE cookies\, hot chocolate & candy canes! Doug Duda of Platte River Radio and Tim Jones from Local 4 news will be on location! So stop by\, say hi\, enjoy some treats and drop off your donation for Present Patrol!
X-ALT-DESC;FMTTYPE=text/html:Join us Wednesday December 11th\, from 4-6pm at our Kearney location as we celebrate Present Patrol! We will have FREE cookies\, hot chocolate &amp\; candy canes! Doug Duda of Platte River Radio and Tim Jones from Local 4 news will be on location! So stop by\, say hi\, enjoy some treats and drop off your donation for Present Patrol!
LOCATION:Platte River Radio 403 E 25th St.
UID:e.1404.18275
SEQUENCE:3
DTSTAMP:20260425T145803Z
URL:https://chambermaster.kearneycoc.org/events/details/present-patrol-18275
END:VEVENT

END:VCALENDAR
