BEGIN:VCALENDAR
VERSION:2.0
PRODID:-//ChamberMaster//Event Calendar 2.0//EN
METHOD:PUBLISH
X-PUBLISHED-TTL:P3D
REFRESH-INTERVAL:P3D
CALSCALE:GREGORIAN
BEGIN:VEVENT
DTSTART:20140816T180000Z
DTEND:20140816T210000Z
X-MICROSOFT-CDO-ALLDAYEVENT:FALSE
SUMMARY:Press On Youth Center Open House
DESCRIPTION:Press On Youth Center is celebrating 15 years of ministry!  We will be having an ice cream social & open house.  Come anytime between 1-4pm to check us out if you've never been to the center.  We also want to thank Kearney for 15 years of support.
X-ALT-DESC;FMTTYPE=text/html:Press On Youth Center is celebrating 15 years of ministry! &nbsp\;We will be having an ice cream social &amp\; open house. &nbsp\;Come anytime between 1-4pm to check us out if you&#39\;ve never been to the center. &nbsp\;We also want to thank Kearney for 15 years of support.
LOCATION:604 East 13th Kearney\, Ne
UID:e.1404.5164
SEQUENCE:3
DTSTAMP:20260423T103951Z
URL:https://chambermaster.kearneycoc.org/events/details/press-on-youth-center-open-house-08-16-2014-5164
END:VEVENT

END:VCALENDAR
