BEGIN:VCALENDAR
VERSION:2.0
PRODID:-//ChamberMaster//Event Calendar 2.0//EN
METHOD:PUBLISH
X-PUBLISHED-TTL:P3D
REFRESH-INTERVAL:P3D
CALSCALE:GREGORIAN
BEGIN:VEVENT
DTSTART:20220228T010000Z
DTEND:20220228T030000Z
X-MICROSOFT-CDO-ALLDAYEVENT:FALSE
SUMMARY:Pretty Fire presented by Crane River Theater
DESCRIPTION:Pretty Fire The World Theatre 2318 Central Avenue\, Kearney\, Nebraska Two Nights Only! February 27 & 28   7 pm Tickets $10 Tickets are available at CraneRiverTheater.org\, or by calling 308-627-5796. Please note   this performance is not a part of the 2022 season ticket. Following a successful run in 2021\, we are excited to bring back our production of the award-winning play\, Pretty Fire! A profound celebration of life\, Pretty Fire challenges audiences to "listen\, feel\, and soar in joy!" Playwright Charlayne Woodard shares her experiences as a young African-American girl with stories of family and faith. The result is a powerful message of love and healing. Crane River Theater is honored to feature the exceptional talents of Marika Gray once again this year. See her bring this story to life on February 27 and 28 at the World Theatre in downtown Kearney. Please note   this performance is not included in the 2022 season ticket. Limited seats available! Get your tickets today!
X-ALT-DESC;FMTTYPE=text/html:Pretty Fire The World Theatre 2318 Central Avenue\, Kearney\, Nebraska Two Nights Only! February 27 &amp\; 28 &bull\; 7 pm Tickets $10 Tickets are available at CraneRiverTheater.org\, or by calling 308-627-5796. Please note &ndash\; this performance is not a part of the 2022 season ticket. Following a successful run in 2021\, we are excited to bring back our production of the award-winning play\, Pretty Fire! A profound celebration of life\, Pretty Fire challenges audiences to &ldquo\;listen\, feel\, and soar in joy!&rdquo\; Playwright Charlayne Woodard shares her experiences as a young African-American girl with stories of family and faith. The result is a powerful message of love and healing. Crane River Theater is honored to feature the exceptional talents of Marika Gray once again this year. See her bring this story to life on February 27 and 28 at the World Theatre in downtown Kearney. Please note &ndash\; this performance is not included in the 2022 season ticket. Limited seats available! Get your tickets today!
LOCATION:The World Theatre 2318 Central Avenue\, Kearney\, Nebraska
UID:e.1404.19635
SEQUENCE:3
DTSTAMP:20260423T180929Z
URL:https://chambermaster.kearneycoc.org/events/details/pretty-fire-presented-by-crane-river-theater-19635
END:VEVENT

END:VCALENDAR
