BEGIN:VCALENDAR
VERSION:2.0
PRODID:-//ChamberMaster//Event Calendar 2.0//EN
METHOD:PUBLISH
X-PUBLISHED-TTL:P3D
REFRESH-INTERVAL:P3D
CALSCALE:GREGORIAN
BEGIN:VEVENT
DTSTART:20161013T140000Z
DTEND:20161013T190000Z
X-MICROSOFT-CDO-ALLDAYEVENT:FALSE
SUMMARY:Prime Senior Festival
DESCRIPTION:The 17th annual Prime Senior Festival sponsored by CHI Health Good Samaritan with Kearney Orthopedic and Sports Medicine\, Good Samaritan Society\, and Kearney Eye Institute\, is Thursday October 13th\, 2016 from 9 a.m. to 2 p.m. at the Buffalo County Fairgrounds Exhibit Building. There is no cost to attend this event.\n\nDon't miss Featured Speaker\, Jim Griffin on stage at 10 a.m. He will present his program titled "The North Platte Canteen" where he describes one of the largest volunteer efforts of World War II. Informative seminars will be presented throughout the event and the activities will wrap up at 1:30 p.m with a performance from Rascal Martinez. From Sutherland\, Nebraska\, Martinez performs a variety of cover songs from the 50s\, 60s\, country and alternative genres. He recentely finished recording his third record titled "City Man" in Nashville.\n\n\nCome out and enjoy FREE exhibits from area businesses and organizations including health and fitness professionals\, financials advisors\, entertainment\, assisted living facilities and much more.\n\nFor a FREE RIDE to the Prime Senior Festival call RYDE at 308-865-5677\, Monday   Friday\, 8 a.m. to 5 p.m.\, to schedule your pick up.\n\nFor more information about the Prime Senior Festival please contact Kearney Hub Marketing Coordinator Penny Parker at 308-233-9789 or penny.parker@kearneyhub.com
X-ALT-DESC;FMTTYPE=text/html:<p style="margin: 0px 0px 6px\; color: rgb(29\, 33\, 41)\; font-family: helvetica\, arial\, sans-serif\; font-size: 14px\; background-color: rgb(255\, 255\, 255)\;">The 17th annual Prime Senior Festival sponsored by CHI Health Good Samaritan with Kearney Orthopedic and Sports Medicine\, Good Samaritan Society\, and Kearney Eye Institute\, is Thursday October 13th\, 2016 from 9 a.m. to 2 p.m. at the Buffalo County Fairgrounds Exhibit Building. There is no cost to attend this event.</p>\n\n<p style="margin: 6px 0px\; color: rgb(29\, 33\, 41)\; font-family: helvetica\, arial\, sans-serif\; font-size: 14px\; background-color: rgb(255\, 255\, 255)\;">Don&rsquo\;t miss Featured Speaker\, Jim Griffin on stage at 10 a.m. He will present his program titled &ldquo\;The North Platte Canteen&rdquo\; where he describes one of the largest vo<span class="text_exposed_show" style="display: inline\;">lunteer efforts of World War II. Informative seminars will be presented throughout the event and the activities will wrap up at 1:30 p.m with a performance from Rascal Martinez. From Sutherland\, Nebraska\, Martinez performs a variety of cover songs from the 50s\, 60s\, country and alternative genres. He recentely finished recording his third record titled &ldquo\;City Man&rdquo\; in Nashville.</span></p>\n\n<div class="text_exposed_show" style="display: inline\; color: rgb(29\, 33\, 41)\; font-family: helvetica\, arial\, sans-serif\; font-size: 14px\; background-color: rgb(255\, 255\, 255)\;">\n<p style="margin: 0px 0px 6px\;">Come out and enjoy FREE exhibits from area businesses and organizations including health and fitness professionals\, financials advisors\, entertainment\, assisted living facilities and much more.</p>\n\n<p style="margin: 6px 0px\;">For a FREE RIDE to the Prime Senior Festival call RYDE at 308-865-5677\, Monday &ndash\; Friday\, 8 a.m. to 5 p.m.\, to schedule your pick up.</p>\n\n<p style="margin: 6px 0px\;">For more information about the Prime Senior Festival please contact Kearney Hub Marketing Coordinator Penny Parker at 308-233-9789 or penny.parker@kearneyhub.com</p>\n</div>\n
LOCATION:Buffalo County Fairgrounds Exhibit Building
UID:e.1404.9058
SEQUENCE:3
DTSTAMP:20260421T140418Z
URL:https://chambermaster.kearneycoc.org/events/details/prime-senior-festival-9058
END:VEVENT

END:VCALENDAR
