BEGIN:VCALENDAR
VERSION:2.0
PRODID:-//ChamberMaster//Event Calendar 2.0//EN
METHOD:PUBLISH
X-PUBLISHED-TTL:P3D
REFRESH-INTERVAL:P3D
CALSCALE:GREGORIAN
BEGIN:VEVENT
DTSTART:20190407T160000Z
DTEND:20190407T183000Z
X-MICROSOFT-CDO-ALLDAYEVENT:FALSE
SUMMARY:Prince of Peace Springfest
DESCRIPTION:Prince of Peace Springfest will be held on Sunday\, April 7th at Kearney Catholic High School. Please join us for Traeger grilled pork\, baked potatoes\, salads and drinks. We'll also have a silent auction\, God's garden\, carnival\, Bingo and a Bake Sale!
X-ALT-DESC;FMTTYPE=text/html:Prince of Peace Springfest will be held on Sunday\, April 7th at Kearney Catholic High School. Please join us for Traeger grilled pork\, baked potatoes\, salads and drinks. We&#39\;ll also have a silent auction\, God&#39\;s garden\, carnival\, Bingo and a Bake Sale!
LOCATION:Kearney Catholic High School 110 East 35th St.
UID:e.1404.15420
SEQUENCE:3
DTSTAMP:20260426T032731Z
URL:https://chambermaster.kearneycoc.org/events/details/prince-of-peace-springfest-15420
END:VEVENT

END:VCALENDAR
