BEGIN:VCALENDAR
VERSION:2.0
PRODID:-//ChamberMaster//Event Calendar 2.0//EN
METHOD:PUBLISH
X-PUBLISHED-TTL:P3D
REFRESH-INTERVAL:P3D
CALSCALE:GREGORIAN
BEGIN:VEVENT
DTSTART:20140924T000000Z
DTEND:20140924T013000Z
X-MICROSOFT-CDO-ALLDAYEVENT:FALSE
SUMMARY:Professional and Personal Skincare/Glamour Clinics
DESCRIPTION:Needing a new look for the fall or a new feel for your skin?\n\nWanting some professionalism added to your look?\n\nWould your group enjoy some fun all together?\n\nWould you like to send an employee to have some special pampering?\n\n\nWe are offering FREE professional and personal skin care and glamour clinics\n\nin Kearney 3-4 times a month on most Tuesdays.  Additional dates can be requested.\n\n\n\nTonight begins at 7pm\n\nKearney Chamber of Commerce Conference Room\n\nRSVP required by 5pm to 308-830-1377\n\n\n\nIf you already work with another Mary Kay consultant\, please be respectful of her and ask her first.  Thank you!
X-ALT-DESC;FMTTYPE=text/html:<h2><span style="color:#800000\;"><span style="font-family:arial\,helvetica\,sans-serif\;"><strong><span style="background-color:#daa520\;">Needing a new look for the fall or a new feel for your skin?<br />\nWanting some professionalism added to your look?<br />\nWould your group enjoy some fun all together?<br />\nWould you like to send an employee to have some special pampering?</span></strong></span></span></h2>\n<br />\n<strong><span style="font-size:14px\;"><span style="font-family:arial\,helvetica\,sans-serif\;">We are offering FREE professional and personal skin care and glamour clinics<br />\nin Kearney 3-4 times a month on most Tuesdays. </span>&nbsp\;Additional dates can be requested.</span></strong><br />\n<br />\nTonight begins at 7pm<br />\nKearney Chamber of Commerce Conference Room<br />\nRSVP required by 5pm to 308-830-1377<br />\n<br />\nIf you already work with another Mary Kay consultant\, please be respectful of her and ask her first. &nbsp\;Thank you!<br />\n<br />\n&nbsp\;
LOCATION:Kearney Chamber of Commerce conference room 1007 2nd Ave
UID:e.1404.5366
SEQUENCE:3
DTSTAMP:20260423T090148Z
URL:https://chambermaster.kearneycoc.org/events/details/professional-and-personal-skincare-glamour-clinics-09-23-2014-5366
END:VEVENT

END:VCALENDAR
