BEGIN:VCALENDAR
VERSION:2.0
PRODID:-//ChamberMaster//Event Calendar 2.0//EN
METHOD:PUBLISH
X-PUBLISHED-TTL:P3D
REFRESH-INTERVAL:P3D
CALSCALE:GREGORIAN
BEGIN:VEVENT
DTSTART:20191204T173000Z
DTEND:20191204T193000Z
X-MICROSOFT-CDO-ALLDAYEVENT:FALSE
SUMMARY:ProTalks Lunch Box
DESCRIPTION:Expert advice from the pros that know! Join us in learning more about disaster preparedness for your business. FREE to attend. Register at unk.edu/protalks\n\n\n\nClick Here to download the flyer!
X-ALT-DESC;FMTTYPE=text/html:Expert advice from the pros that know! Join us in learning more about disaster preparedness for your business. FREE to attend. Register at unk.edu/protalks<br />\n<br />\n<a href="https://chambermaster.blob.core.windows.net/userfiles/UserFiles/chambers/1404/File/ProTalksDec4.pdf">Click Here to download the flyer!</a>
LOCATION:Kearney Public Library
UID:e.1404.18265
SEQUENCE:3
DTSTAMP:20260425T145621Z
URL:https://chambermaster.kearneycoc.org/events/details/protalks-lunch-box-18265
END:VEVENT

END:VCALENDAR
