BEGIN:VCALENDAR
VERSION:2.0
PRODID:-//ChamberMaster//Event Calendar 2.0//EN
METHOD:PUBLISH
X-PUBLISHED-TTL:P3D
REFRESH-INTERVAL:P3D
CALSCALE:GREGORIAN
BEGIN:VEVENT
DTSTART:20220401T230000Z
DTEND:20220402T040000Z
X-MICROSOFT-CDO-ALLDAYEVENT:FALSE
SUMMARY:Purses for a Purpose
DESCRIPTION:Purses for a Purpose is a dinner and auction supporting The S.A.F.E. Center. Sign up at safecenter.ejoinme.org/2022
X-ALT-DESC;FMTTYPE=text/html:Purses for a Purpose is a dinner and auction supporting The S.A.F.E. Center. Sign up at safecenter.ejoinme.org/2022
LOCATION:Younes Conference Center
UID:e.1404.19626
SEQUENCE:3
DTSTAMP:20260423T145315Z
URL:https://chambermaster.kearneycoc.org/events/details/purses-for-a-purpose-19626
END:VEVENT

END:VCALENDAR
