BEGIN:VCALENDAR
VERSION:2.0
PRODID:-//ChamberMaster//Event Calendar 2.0//EN
METHOD:PUBLISH
X-PUBLISHED-TTL:P3D
REFRESH-INTERVAL:P3D
CALSCALE:GREGORIAN
BEGIN:VEVENT
DTSTART:20150911T213000Z
DTEND:20150912T000000Z
X-MICROSOFT-CDO-ALLDAYEVENT:FALSE
SUMMARY:Raise The Flag Dedication
DESCRIPTION:The Archway and the Kearney Rotary Clubs will have a dedication ceremony for a 20-foot by 30-foot American flag that will fly near The Archway's main entrance.\n\nThe ceremony will be at 4:30pm with a brief ceremony and performance by Mike Nicolen. Food will be available for purchase.
X-ALT-DESC;FMTTYPE=text/html:The Archway and the Kearney Rotary Clubs will have a dedication ceremony for a 20-foot by 30-foot American flag that will fly near The Archway&#39\;s main entrance.<br />\nThe ceremony will be at 4:30pm with a brief ceremony and performance by Mike Nicolen. Food will be available for purchase.
LOCATION:The Archway 3060 East 1st St
UID:e.1404.6722
SEQUENCE:3
DTSTAMP:20260422T114530Z
URL:https://chambermaster.kearneycoc.org/events/details/raise-the-flag-dedication-09-11-2015-6722
END:VEVENT

END:VCALENDAR
