BEGIN:VCALENDAR
VERSION:2.0
PRODID:-//ChamberMaster//Event Calendar 2.0//EN
METHOD:PUBLISH
X-PUBLISHED-TTL:P3D
REFRESH-INTERVAL:P3D
CALSCALE:GREGORIAN
BEGIN:VEVENT
DTSTART:20161109T010000Z
DTEND:20161109T030000Z
X-MICROSOFT-CDO-ALLDAYEVENT:FALSE
SUMMARY:Rave On- The music of Buddy Holly
DESCRIPTION:The music of Buddy Holly
X-ALT-DESC;FMTTYPE=text/html:The music of Buddy Holly
LOCATION:Merryman Performing Arts Center
UID:e.1404.8900
SEQUENCE:3
DTSTAMP:20260421T120116Z
URL:https://chambermaster.kearneycoc.org/events/details/rave-on-the-music-of-buddy-holly-11-08-2016-8900
END:VEVENT

END:VCALENDAR
