BEGIN:VCALENDAR
VERSION:2.0
PRODID:-//ChamberMaster//Event Calendar 2.0//EN
METHOD:PUBLISH
X-PUBLISHED-TTL:P3D
REFRESH-INTERVAL:P3D
CALSCALE:GREGORIAN
BEGIN:VEVENT
DTSTART:20151112T170000Z
DTEND:20151112T180000Z
X-MICROSOFT-CDO-ALLDAYEVENT:FALSE
SUMMARY:RC: All My Art & Soul
DESCRIPTION:Join us in a ribbon cutting ceremony for All My Art & Soul! The store features local arts\, vintage\, and repurposed items. Located on the Downtown Kearney on the Bricks. Come check them out and see their arts\, crafts\, and home decor.
X-ALT-DESC;FMTTYPE=text/html:Join us in a ribbon cutting ceremony for All My Art &amp\; Soul! The store features local arts\, vintage\, and repurposed items. Located on the Downtown Kearney on the Bricks. Come check them out and see their arts\, crafts\, and home decor.
LOCATION:2114 Central Ave
UID:e.1404.7045
SEQUENCE:3
DTSTAMP:20260422T084638Z
URL:https://chambermaster.kearneycoc.org/events/details/rc-all-my-art-soul-11-12-2015-7045
END:VEVENT

END:VCALENDAR
