BEGIN:VCALENDAR
VERSION:2.0
PRODID:-//ChamberMaster//Event Calendar 2.0//EN
METHOD:PUBLISH
X-PUBLISHED-TTL:P3D
REFRESH-INTERVAL:P3D
CALSCALE:GREGORIAN
BEGIN:VEVENT
DTSTART:20190503T190000Z
DTEND:20190503T193000Z
X-MICROSOFT-CDO-ALLDAYEVENT:FALSE
SUMMARY:RC and Grand Reopening - Masters True Value
DESCRIPTION:Join us to help Masters True Value Celebrate their new space with a Ribbon Cutting ceremony and Grand Reopening!
X-ALT-DESC;FMTTYPE=text/html:Join us to help Masters True Value Celebrate their new space with a Ribbon Cutting ceremony and Grand Reopening!&nbsp\;
LOCATION:2505 Grand Avenue Kearney NE
UID:e.1404.15953
SEQUENCE:3
DTSTAMP:20260426T021215Z
URL:https://chambermaster.kearneycoc.org/events/details/rc-and-grand-reopening-masters-true-value-15953
END:VEVENT

END:VCALENDAR
