BEGIN:VCALENDAR
VERSION:2.0
PRODID:-//ChamberMaster//Event Calendar 2.0//EN
METHOD:PUBLISH
X-PUBLISHED-TTL:P3D
REFRESH-INTERVAL:P3D
CALSCALE:GREGORIAN
BEGIN:VEVENT
DTSTART:20210604T160000Z
DTEND:20210604T180000Z
X-MICROSOFT-CDO-ALLDAYEVENT:FALSE
SUMMARY:RC - Associated Staffing
DESCRIPTION:Join us for a Ribbon Cutting ceremony for Associated Staffing's new office! Open House to follow!
X-ALT-DESC;FMTTYPE=text/html:Join us for a Ribbon Cutting ceremony for Associated Staffing&#39\;s new office! Open House to follow!
LOCATION:711 E 25th St. Kearney
UID:e.1404.19306
SEQUENCE:3
DTSTAMP:20260424T080928Z
URL:https://chambermaster.kearneycoc.org/events/details/rc-associated-staffing-19306
END:VEVENT

END:VCALENDAR
