BEGIN:VCALENDAR
VERSION:2.0
PRODID:-//ChamberMaster//Event Calendar 2.0//EN
METHOD:PUBLISH
X-PUBLISHED-TTL:P3D
REFRESH-INTERVAL:P3D
CALSCALE:GREGORIAN
BEGIN:VEVENT
DTSTART:20190501T213000Z
DTEND:20190501T220000Z
X-MICROSOFT-CDO-ALLDAYEVENT:FALSE
SUMMARY:RC - Berkshire Hathaway Home Services
DESCRIPTION:Join us for a Ribbon Cutting ceremony for Berkshire Hathaway Home Services Premier Real Estate of Kearney!
X-ALT-DESC;FMTTYPE=text/html:Join us for a Ribbon Cutting ceremony for Berkshire Hathaway Home Services Premier Real Estate of Kearney!
LOCATION:5609 1st Ave.\, Ste D
UID:e.1404.15437
SEQUENCE:3
DTSTAMP:20260426T021123Z
URL:https://chambermaster.kearneycoc.org/events/details/rc-berkshire-hathaway-home-services-15437
END:VEVENT

END:VCALENDAR
