BEGIN:VCALENDAR
VERSION:2.0
PRODID:-//ChamberMaster//Event Calendar 2.0//EN
METHOD:PUBLISH
X-PUBLISHED-TTL:P3D
REFRESH-INTERVAL:P3D
CALSCALE:GREGORIAN
BEGIN:VEVENT
DTSTART:20210408T213000Z
DTEND:20210408T220000Z
X-MICROSOFT-CDO-ALLDAYEVENT:FALSE
SUMMARY:RC - Billy Jack's Pizza Pub
DESCRIPTION:Join us for a Ribbon Cutting ceremony to help Billy Jack's Pizza Pub celebrate their opening!
X-ALT-DESC;FMTTYPE=text/html:Join us for a Ribbon Cutting ceremony to help <a href="https://billyjackspizza.com/">Billy Jack&#39\;s Pizza Pub</a> celebrate their opening!&nbsp\;
LOCATION:810 3rd Ave Kearney NE
UID:e.1404.19259
SEQUENCE:3
DTSTAMP:20260424T122204Z
URL:https://chambermaster.kearneycoc.org/events/details/rc-billy-jack-s-pizza-pub-19259
END:VEVENT

END:VCALENDAR
