BEGIN:VCALENDAR
VERSION:2.0
PRODID:-//ChamberMaster//Event Calendar 2.0//EN
METHOD:PUBLISH
X-PUBLISHED-TTL:P3D
REFRESH-INTERVAL:P3D
CALSCALE:GREGORIAN
BEGIN:VEVENT
DTSTART:20150527T170000Z
DTEND:20150527T173000Z
X-MICROSOFT-CDO-ALLDAYEVENT:FALSE
SUMMARY:RC: Boys Town Foster Care
DESCRIPTION:Ribbon Cutting Ceremony for Boys Town Foster Care's new location!
X-ALT-DESC;FMTTYPE=text/html:Ribbon Cutting Ceremony for Boys Town Foster Care&#39\;s new location!
LOCATION:620 East 25th St Ste 9
UID:e.1404.6180
SEQUENCE:3
DTSTAMP:20260422T182520Z
URL:https://chambermaster.kearneycoc.org/events/details/rc-boys-town-foster-care-05-27-2015-6180
END:VEVENT

END:VCALENDAR
