BEGIN:VCALENDAR
VERSION:2.0
PRODID:-//ChamberMaster//Event Calendar 2.0//EN
METHOD:PUBLISH
X-PUBLISHED-TTL:P3D
REFRESH-INTERVAL:P3D
CALSCALE:GREGORIAN
BEGIN:VEVENT
DTSTART:20220428T210000Z
DTEND:20220428T220000Z
X-MICROSOFT-CDO-ALLDAYEVENT:FALSE
SUMMARY:RC - Broadwell of Kearney
DESCRIPTION:Join us for a Ribbon Cutting ceremony to celebrate the GRAND OPENING for Broadwell of Kearney!
X-ALT-DESC;FMTTYPE=text/html:Join us for a Ribbon Cutting ceremony to celebrate the GRAND OPENING for Broadwell of Kearney!
LOCATION:Broadwell Senior Living 617 22nd Ave. Kearney\, NE 68845
UID:e.1404.19667
SEQUENCE:3
DTSTAMP:20260423T150829Z
URL:https://chambermaster.kearneycoc.org/events/details/rc-broadwell-of-kearney-19667
END:VEVENT

END:VCALENDAR
