BEGIN:VCALENDAR
VERSION:2.0
PRODID:-//ChamberMaster//Event Calendar 2.0//EN
METHOD:PUBLISH
X-PUBLISHED-TTL:P3D
REFRESH-INTERVAL:P3D
CALSCALE:GREGORIAN
BEGIN:VEVENT
DTSTART:20190816T170000Z
DTEND:20190816T173000Z
X-MICROSOFT-CDO-ALLDAYEVENT:FALSE
SUMMARY:RC - Brookestone Gardens
DESCRIPTION:Join us for a Ribbon Cutting ceremony for Brookestone Gardens! They are hosting an Open House from 10:00 a.m. to 2:00 p.m.
X-ALT-DESC;FMTTYPE=text/html:Join us for a Ribbon Cutting ceremony for Brookestone Gardens! They are hosting an Open House from 10:00 a.m. to 2:00 p.m.
LOCATION:2615 W 11th St.
UID:e.1404.16547
SEQUENCE:3
DTSTAMP:20260425T212822Z
URL:https://chambermaster.kearneycoc.org/events/details/rc-brookestone-gardens-16547
END:VEVENT

END:VCALENDAR
