BEGIN:VCALENDAR
VERSION:2.0
PRODID:-//ChamberMaster//Event Calendar 2.0//EN
METHOD:PUBLISH
X-PUBLISHED-TTL:P3D
REFRESH-INTERVAL:P3D
CALSCALE:GREGORIAN
BEGIN:VEVENT
DTSTART:20191112T220000Z
DTEND:20191112T230000Z
X-MICROSOFT-CDO-ALLDAYEVENT:FALSE
SUMMARY:RC - Bruner Frank Schumacher L.L.C. Attorneys at Law
DESCRIPTION:Join us for a Ribbon Cutting ceremony for the new location of Bruner Frank Schumacher LLC\, Attorneys at Law!
X-ALT-DESC;FMTTYPE=text/html:Join us for a Ribbon Cutting ceremony for the new location of Bruner Frank Schumacher LLC\, Attorneys at Law!
LOCATION:5804 1st Ave.
UID:e.1404.18194
SEQUENCE:3
DTSTAMP:20260425T164243Z
URL:https://chambermaster.kearneycoc.org/events/details/rc-bruner-frank-schumacher-l-l-c-attorneys-at-law-18194
END:VEVENT

END:VCALENDAR
