BEGIN:VCALENDAR
VERSION:2.0
PRODID:-//ChamberMaster//Event Calendar 2.0//EN
METHOD:PUBLISH
X-PUBLISHED-TTL:P3D
REFRESH-INTERVAL:P3D
CALSCALE:GREGORIAN
BEGIN:VEVENT
DTSTART:20150604T210000Z
DTEND:20150604T220000Z
X-MICROSOFT-CDO-ALLDAYEVENT:FALSE
SUMMARY:RC: Buffalo Records
DESCRIPTION:Join us for a Ribbon Cutting Ceremony for Buffalo Records!
X-ALT-DESC;FMTTYPE=text/html:Join us for a Ribbon Cutting Ceremony for Buffalo Records!&nbsp\;
LOCATION:19 E 21st St
UID:e.1404.6253
SEQUENCE:3
DTSTAMP:20260422T164947Z
URL:https://chambermaster.kearneycoc.org/events/details/rc-buffalo-records-06-04-2015-6253
END:VEVENT

END:VCALENDAR
