BEGIN:VCALENDAR
VERSION:2.0
PRODID:-//ChamberMaster//Event Calendar 2.0//EN
METHOD:PUBLISH
X-PUBLISHED-TTL:P3D
REFRESH-INTERVAL:P3D
CALSCALE:GREGORIAN
BEGIN:VEVENT
DTSTART:20190916T190000Z
DTEND:20190916T200000Z
X-MICROSOFT-CDO-ALLDAYEVENT:FALSE
SUMMARY:RC - CBD American Shaman
DESCRIPTION:Join us for a Ribbon Cutting ceremony for CBD American Shaman!
X-ALT-DESC;FMTTYPE=text/html:Join us for a Ribbon Cutting ceremony for CBD American Shaman!
LOCATION:228 W 42nd St
UID:e.1404.17864
SEQUENCE:3
DTSTAMP:20260425T195228Z
URL:https://chambermaster.kearneycoc.org/events/details/rc-cbd-american-shaman-17864
END:VEVENT

END:VCALENDAR
