BEGIN:VCALENDAR
VERSION:2.0
PRODID:-//ChamberMaster//Event Calendar 2.0//EN
METHOD:PUBLISH
X-PUBLISHED-TTL:P3D
REFRESH-INTERVAL:P3D
CALSCALE:GREGORIAN
BEGIN:VEVENT
DTSTART:20160422T150000Z
DTEND:20160422T160000Z
X-MICROSOFT-CDO-ALLDAYEVENT:FALSE
SUMMARY:RC: City of Kearney Household Hazardous Waste Bldg
DESCRIPTION:Let's celebrate Earth Day with a ribbon cutting at the new Household Hazardous Waste Building! Come out and learn about the services they provide. There will be tours\, snacks and refreshments!
X-ALT-DESC;FMTTYPE=text/html:Let&#39\;s celebrate Earth Day with a ribbon cutting at the new Household Hazardous Waste Building! Come out and learn about the services they provide.&nbsp\;There will be tours\, snacks and refreshments!
LOCATION:3620 Box Butte Avenue Southeast corner of the Kearney Area Recycling Center\, 3007 E 39th St
UID:e.1404.8572
SEQUENCE:3
DTSTAMP:20260422T000044Z
URL:https://chambermaster.kearneycoc.org/events/details/rc-city-of-kearney-household-hazardous-waste-bldg-04-22-2016-8572
END:VEVENT

END:VCALENDAR
