BEGIN:VCALENDAR
VERSION:2.0
PRODID:-//ChamberMaster//Event Calendar 2.0//EN
METHOD:PUBLISH
X-PUBLISHED-TTL:P3D
REFRESH-INTERVAL:P3D
CALSCALE:GREGORIAN
BEGIN:VEVENT
DTSTART:20190425T140000Z
DTEND:20190425T143000Z
X-MICROSOFT-CDO-ALLDAYEVENT:FALSE
SUMMARY:RC - CMH Interiors
DESCRIPTION:Join us for a Ribbon Cutting ceremony for the new location of CMH Interiors!
X-ALT-DESC;FMTTYPE=text/html:Join us for a Ribbon Cutting ceremony for the new location of CMH Interiors!
LOCATION:5804 2nd Ave. W
UID:e.1404.15441
SEQUENCE:3
DTSTAMP:20260426T032450Z
URL:https://chambermaster.kearneycoc.org/events/details/rc-cmh-interiors-15441
END:VEVENT

END:VCALENDAR
