BEGIN:VCALENDAR
VERSION:2.0
PRODID:-//ChamberMaster//Event Calendar 2.0//EN
METHOD:PUBLISH
X-PUBLISHED-TTL:P3D
REFRESH-INTERVAL:P3D
CALSCALE:GREGORIAN
BEGIN:VEVENT
DTSTART:20160707T210000Z
DTEND:20160707T220000Z
X-MICROSOFT-CDO-ALLDAYEVENT:FALSE
SUMMARY:RC: Coppermill Steakhouse
DESCRIPTION:Join us for a ribbon cutting/open house at the new Coppermill Steakhouse!
X-ALT-DESC;FMTTYPE=text/html:Join us for a ribbon cutting/open house at the new Coppermill Steakhouse!
LOCATION:421 Talmadge St. Ste 2
UID:e.1404.8916
SEQUENCE:3
DTSTAMP:20260421T185320Z
URL:https://chambermaster.kearneycoc.org/events/details/rc-coppermill-steakhouse-07-07-2016-8916
END:VEVENT

END:VCALENDAR
