BEGIN:VCALENDAR
VERSION:2.0
PRODID:-//ChamberMaster//Event Calendar 2.0//EN
METHOD:PUBLISH
X-PUBLISHED-TTL:P3D
REFRESH-INTERVAL:P3D
CALSCALE:GREGORIAN
BEGIN:VEVENT
DTSTART:20140403T220000Z
DTEND:20140404T000000Z
X-MICROSOFT-CDO-ALLDAYEVENT:FALSE
SUMMARY:RC: Cottonwood Vet Clinic - Retreat at Cottonwood
DESCRIPTION:The Retreat at Cottonwood Veterinary Clinic opened March 13th\, 2014. We will be having a ribbon cutting at 5:00pm and continue with an open house until 7:00pm. At The Retreat at Cottonwood we recognize that pet boarding is much more than just housing your pet while you are away. Our goal is that your pet will have individualized care creating a stress-free environment. Dogs will have the option of staying in a cabin or a suite. Your cat will stay in a three room condo with separate living\, litter and food areas. We also offer dog day care and a variety of training classes in our spacious indoor play area. Call 308.455.3188 for more information.
X-ALT-DESC;FMTTYPE=text/html:The Retreat at Cottonwood Veterinary Clinic opened March 13th\, 2014. We will be having a ribbon&nbsp\;cutting at&nbsp\;5:00pm and continue with an open house until 7:00pm. At The Retreat at Cottonwood we recognize that pet boarding is much more than just housing your pet while you are away. Our goal is that your pet will have individualized care creating a stress-free environment. Dogs will have the option of staying in a cabin or a suite. Your cat will stay in a three room condo with separate living\, litter and food areas. We also offer dog day care and a variety of training classes in our spacious indoor play area. Call 308.455.3188 for more information.&nbsp\;
LOCATION:Cottonwood Vet Clinic 5912 Second Ave West Kearney\, NE
UID:e.1404.4676
SEQUENCE:3
DTSTAMP:20260423T164255Z
URL:https://chambermaster.kearneycoc.org/events/details/rc-cottonwood-vet-clinic-retreat-at-cottonwood-04-03-2014-4676
END:VEVENT

END:VCALENDAR
