BEGIN:VCALENDAR
VERSION:2.0
PRODID:-//ChamberMaster//Event Calendar 2.0//EN
METHOD:PUBLISH
X-PUBLISHED-TTL:P3D
REFRESH-INTERVAL:P3D
CALSCALE:GREGORIAN
BEGIN:VEVENT
DTSTART:20210416T150000Z
DTEND:20210416T153000Z
X-MICROSOFT-CDO-ALLDAYEVENT:FALSE
SUMMARY:RC - Crossroads Mission - Transitional Housing
DESCRIPTION:Join us for a Ribbon Cutting Ceremony for Crossroads Mission Transitional Housing! Open house to follow!
X-ALT-DESC;FMTTYPE=text/html:Join us for a Ribbon Cutting Ceremony for <a href="https://www.crossroadsmission.com/">Crossroads Mission Transitional Housing</a>! Open house to follow!
LOCATION:1408 E 39th Street Kearney NE
UID:e.1404.19246
SEQUENCE:3
DTSTAMP:20260424T122240Z
URL:https://chambermaster.kearneycoc.org/events/details/rc-crossroads-mission-transitional-housing-19246
END:VEVENT

END:VCALENDAR
