BEGIN:VCALENDAR
VERSION:2.0
PRODID:-//ChamberMaster//Event Calendar 2.0//EN
METHOD:PUBLISH
X-PUBLISHED-TTL:P3D
REFRESH-INTERVAL:P3D
CALSCALE:GREGORIAN
BEGIN:VEVENT
DTSTART:20140313T220000Z
DTEND:20140313T230000Z
X-MICROSOFT-CDO-ALLDAYEVENT:FALSE
SUMMARY:RC: Dolce Salon & Spa
DESCRIPTION:Join us in welcoming the newest Salon to Kearney Nebraska\, Dolce Salon & Spa. Food & Beverages will be served!
X-ALT-DESC;FMTTYPE=text/html:Join us in welcoming the newest Salon to Kearney Nebraska\, Dolce Salon &amp\; Spa. Food &amp\; Beverages will be served!
LOCATION:3804 Central Ave Kearney\, NE
UID:e.1404.4516
SEQUENCE:3
DTSTAMP:20260423T195320Z
URL:https://chambermaster.kearneycoc.org/events/details/rc-dolce-salon-spa-03-13-2014-4516
END:VEVENT

END:VCALENDAR
