BEGIN:VCALENDAR
VERSION:2.0
PRODID:-//ChamberMaster//Event Calendar 2.0//EN
METHOD:PUBLISH
X-PUBLISHED-TTL:P3D
REFRESH-INTERVAL:P3D
CALSCALE:GREGORIAN
BEGIN:VEVENT
DTSTART:20150529T180000Z
DTEND:20150529T183000Z
X-MICROSOFT-CDO-ALLDAYEVENT:FALSE
SUMMARY:RC: Dollar Center Inc
DESCRIPTION:Join us for a Ribbon Cutting Ceremony of the new Dollar Center Inc.!
X-ALT-DESC;FMTTYPE=text/html:Join us for a Ribbon Cutting Ceremony of the new Dollar&nbsp\;Center Inc.!
LOCATION:2505 Grand Ave
UID:e.1404.6241
SEQUENCE:3
DTSTAMP:20260422T182215Z
URL:https://chambermaster.kearneycoc.org/events/details/rc-dollar-center-inc-05-29-2015-6241
END:VEVENT

END:VCALENDAR
