BEGIN:VCALENDAR
VERSION:2.0
PRODID:-//ChamberMaster//Event Calendar 2.0//EN
METHOD:PUBLISH
X-PUBLISHED-TTL:P3D
REFRESH-INTERVAL:P3D
CALSCALE:GREGORIAN
BEGIN:VEVENT
DTSTART:20241101T160000Z
DTEND:20241101T170000Z
X-MICROSOFT-CDO-ALLDAYEVENT:FALSE
SUMMARY:RC - Dynamic Spine and Sports Performance
DESCRIPTION:Join us for a Ribbon Cutting Ceremony to celebrate the Grand Opening of Dynamic Spine and Sports Performance\, located at 3806 Country Club Lane\, Suite B
X-ALT-DESC;FMTTYPE=text/html:Join us for a Ribbon Cutting Ceremony to celebrate the Grand Opening of Dynamic Spine and Sports Performance\, located at 3806 Country Club Lane\, Suite B
LOCATION:3806 Country Club Lane\, Suite B
UID:e.1404.24943
SEQUENCE:3
DTSTAMP:20260425T172329Z
URL:https://chambermaster.kearneycoc.org/events/details/rc-dynamic-spine-and-sports-performance-24943
END:VEVENT

END:VCALENDAR
