BEGIN:VCALENDAR
VERSION:2.0
PRODID:-//ChamberMaster//Event Calendar 2.0//EN
METHOD:PUBLISH
X-PUBLISHED-TTL:P3D
REFRESH-INTERVAL:P3D
CALSCALE:GREGORIAN
BEGIN:VEVENT
DTSTART:20160316T150000Z
DTEND:20160316T153000Z
X-MICROSOFT-CDO-ALLDAYEVENT:FALSE
SUMMARY:RC: Eakes Office Solutions
DESCRIPTION:Join us for a ribbon cutting ceremony for the newly remodeled Eakes Office Solutions. Enjoy the Grand Opening festivities and congratulate the staff!
X-ALT-DESC;FMTTYPE=text/html:Join us for a ribbon cutting ceremony for the newly remodeled Eakes&nbsp\;Office Solutions. Enjoy the Grand Opening festivities and congratulate the staff!
LOCATION:2401 Avenue A
UID:e.1404.7334
SEQUENCE:3
DTSTAMP:20260422T011836Z
URL:https://chambermaster.kearneycoc.org/events/details/rc-eakes-office-solutions-03-16-2016-7334
END:VEVENT

END:VCALENDAR
