BEGIN:VCALENDAR
VERSION:2.0
PRODID:-//ChamberMaster//Event Calendar 2.0//EN
METHOD:PUBLISH
X-PUBLISHED-TTL:P3D
REFRESH-INTERVAL:P3D
CALSCALE:GREGORIAN
BEGIN:VEVENT
DTSTART:20140304T230000Z
DTEND:20140305T000000Z
X-MICROSOFT-CDO-ALLDAYEVENT:FALSE
SUMMARY:RC: Family Fresh Market (Sunmart)
DESCRIPTION:Please join us for Family Fresh Markets's Grand Opening Ribbon Cutting. Come see all the great changes they have made. Food & Refreshments will be served.
X-ALT-DESC;FMTTYPE=text/html:<span style="font-size:14px\;"><span style="font-family:arial\;">Please join us for Family Fresh Markets&#39\;s&nbsp\;Grand Opening Ribbon Cutting. Come see all the great changes they have made. Food &amp\; Refreshments will be served.</span></span><br />\n
LOCATION:Family Fresh Market 3920 2nd Ave Kearney\, NE
UID:e.1404.4426
SEQUENCE:3
DTSTAMP:20260423T181351Z
URL:https://chambermaster.kearneycoc.org/events/details/rc-family-fresh-market-sunmart-03-04-2014-4426
END:VEVENT

END:VCALENDAR
