BEGIN:VCALENDAR
VERSION:2.0
PRODID:-//ChamberMaster//Event Calendar 2.0//EN
METHOD:PUBLISH
X-PUBLISHED-TTL:P3D
REFRESH-INTERVAL:P3D
CALSCALE:GREGORIAN
BEGIN:VEVENT
DTSTART:20210923T180000Z
DTEND:20210923T190000Z
X-MICROSOFT-CDO-ALLDAYEVENT:FALSE
SUMMARY:RC - Farm Credit Services of America
DESCRIPTION:Join us for a Ribbon Cutting to celebrate Farm Credit Services of America's new location in Kearney!
X-ALT-DESC;FMTTYPE=text/html:Join us for a Ribbon Cutting to celebrate Farm Credit Services of America&#39\;s new location in Kearney!
LOCATION:4070 East 56th Street Kearney\, NE 68847
UID:e.1404.19367
SEQUENCE:3
DTSTAMP:20260424T021621Z
URL:https://chambermaster.kearneycoc.org/events/details/rc-farm-credit-services-of-america-19367
END:VEVENT

END:VCALENDAR
