BEGIN:VCALENDAR
VERSION:2.0
PRODID:-//ChamberMaster//Event Calendar 2.0//EN
METHOD:PUBLISH
X-PUBLISHED-TTL:P3D
REFRESH-INTERVAL:P3D
CALSCALE:GREGORIAN
BEGIN:VEVENT
DTSTART:20151215T220000Z
DTEND:20151216T000000Z
X-MICROSOFT-CDO-ALLDAYEVENT:FALSE
SUMMARY:RC: First National Bank
DESCRIPTION:Join us in a ribbon cutting ceremony for the newly remodeled North location of First National Bank! We'll kick this event off with a ribbon cutting ceremony followed by an open house with appetizers and beverages.
X-ALT-DESC;FMTTYPE=text/html:Join us in a ribbon cutting ceremony for the newly remodeled North location of First National Bank! We&#39\;ll kick this event off with a ribbon cutting ceremony followed by an open house with appetizers and beverages.
LOCATION:3802 N Second Avenue
UID:e.1404.7061
SEQUENCE:3
DTSTAMP:20260422T064800Z
URL:https://chambermaster.kearneycoc.org/events/details/rc-first-national-bank-12-15-2015-7061
END:VEVENT

END:VCALENDAR
