BEGIN:VCALENDAR
VERSION:2.0
PRODID:-//ChamberMaster//Event Calendar 2.0//EN
METHOD:PUBLISH
X-PUBLISHED-TTL:P3D
REFRESH-INTERVAL:P3D
CALSCALE:GREGORIAN
BEGIN:VEVENT
DTSTART:20151007T170000Z
DTEND:20151007T173000Z
X-MICROSOFT-CDO-ALLDAYEVENT:FALSE
SUMMARY:RC: Five Nines
DESCRIPTION:Join us for a ribbon cutting ceremony for Five Nines. They will be grilling up some great food from 11am-1pm. The ribbon cutting ceremony will take place at Noon with a giveaway drawing at 12:30pm for a Samsung LED 55" TV\, must be present to win.
X-ALT-DESC;FMTTYPE=text/html:Join us for a ribbon cutting ceremony for Five Nines. They will be grilling up some great food from 11am-1pm. The ribbon cutting ceremony will take place at Noon with a giveaway drawing at 12:30pm<span style="line-height: 20.7999992370605px\;">&nbsp\;for a Samsung LED 55&quot\; TV\, must be present to win.</span>
LOCATION:5609 1st Ave.\, Ste A-1
UID:e.1404.6678
SEQUENCE:3
DTSTAMP:20260422T100339Z
URL:https://chambermaster.kearneycoc.org/events/details/rc-five-nines-10-07-2015-6678
END:VEVENT

END:VCALENDAR
