BEGIN:VCALENDAR
VERSION:2.0
PRODID:-//ChamberMaster//Event Calendar 2.0//EN
METHOD:PUBLISH
X-PUBLISHED-TTL:P3D
REFRESH-INTERVAL:P3D
CALSCALE:GREGORIAN
BEGIN:VEVENT
DTSTART:20200826T153000Z
DTEND:20200826T160000Z
X-MICROSOFT-CDO-ALLDAYEVENT:FALSE
SUMMARY:RC - Gambino's Pizza
DESCRIPTION:Join us for a Ribbon Cutting ceremony for Gambino's Pizza!
X-ALT-DESC;FMTTYPE=text/html:Join us for a Ribbon Cutting ceremony for <a href="https://www.gambinospizza.com/stores/ne/kearney.html">Gambino&#39\;s Pizza</a>!
LOCATION:2715 2nd Ave. Ste A
UID:e.1404.18395
SEQUENCE:3
DTSTAMP:20260425T015903Z
URL:https://chambermaster.kearneycoc.org/events/details/rc-gambino-s-pizza-18395
END:VEVENT

END:VCALENDAR
