BEGIN:VCALENDAR
VERSION:2.0
PRODID:-//ChamberMaster//Event Calendar 2.0//EN
METHOD:PUBLISH
X-PUBLISHED-TTL:P3D
REFRESH-INTERVAL:P3D
CALSCALE:GREGORIAN
BEGIN:VEVENT
DTSTART:20150730T173000Z
DTEND:20150730T190000Z
X-MICROSOFT-CDO-ALLDAYEVENT:FALSE
SUMMARY:RC: Good Samaritan Hospital Foundation
DESCRIPTION:Join us for a ribbon cutting for Good Samaritan Hospital Foundation's new location. We will kick off with a ribbon cutting ceremony at 12:30pm\, followed by an open house with refreshments.
X-ALT-DESC;FMTTYPE=text/html:Join us for a ribbon cutting for Good Samaritan Hospital Foundation&#39\;s new location. We will kick off with a ribbon cutting ceremony at 12:30pm\, followed by an open house with refreshments.
LOCATION:115 West 32nd Street
UID:e.1404.6458
SEQUENCE:3
DTSTAMP:20260422T151702Z
URL:https://chambermaster.kearneycoc.org/events/details/rc-good-samaritan-hospital-foundation-07-30-2015-6458
END:VEVENT

END:VCALENDAR
