BEGIN:VCALENDAR
VERSION:2.0
PRODID:-//ChamberMaster//Event Calendar 2.0//EN
METHOD:PUBLISH
X-PUBLISHED-TTL:P3D
REFRESH-INTERVAL:P3D
CALSCALE:GREGORIAN
BEGIN:VEVENT
DTSTART:20160526T210000Z
DTEND:20160527T000000Z
X-MICROSOFT-CDO-ALLDAYEVENT:FALSE
SUMMARY:RC: Graczyk Lawn & Landscape
DESCRIPTION:Join us for a ribbon cutting ceremony for the newly remodeled space at Graczyk Lawn & Landscape! We'll kick this night of fun off with a ribbon cutting ceremony followed by an open house! Don't miss it!
X-ALT-DESC;FMTTYPE=text/html:Join us for a ribbon cutting ceremony for the newly remodeled space at Graczyk Lawn &amp\; Landscape! We&#39\;ll kick this night of fun off with a ribbon cutting ceremony followed by an open house! Don&#39\;t miss it!
LOCATION:2106 Avenue F
UID:e.1404.8568
SEQUENCE:3
DTSTAMP:20260421T233857Z
URL:https://chambermaster.kearneycoc.org/events/details/rc-graczyk-lawn-landscape-05-26-2016-8568
END:VEVENT

END:VCALENDAR
