BEGIN:VCALENDAR
VERSION:2.0
PRODID:-//ChamberMaster//Event Calendar 2.0//EN
METHOD:PUBLISH
X-PUBLISHED-TTL:P3D
REFRESH-INTERVAL:P3D
CALSCALE:GREGORIAN
BEGIN:VEVENT
DTSTART:20150129T220000Z
DTEND:20150129T223000Z
X-MICROSOFT-CDO-ALLDAYEVENT:FALSE
SUMMARY:RC-Hello Beautiful Bridal & Formal Wear
DESCRIPTION:You're invited to join the official grand opening celebration and ribbon cutting ceremony! We'll kick off this event with a ribbon cutting at 4pm and then stay for treats and prizes!
X-ALT-DESC;FMTTYPE=text/html:You&#39\;re invited to join the official grand opening celebration and ribbon cutting ceremony! We&#39\;ll kick off this event with a ribbon cutting at 4pm and then stay for treats and prizes!
LOCATION:5012 3rd Avenue\, Suite 150
UID:e.1404.5952
SEQUENCE:3
DTSTAMP:20260423T002849Z
URL:https://chambermaster.kearneycoc.org/events/details/rc-hello-beautiful-bridal-formal-wear-01-29-2015-5952
END:VEVENT

END:VCALENDAR
