BEGIN:VCALENDAR
VERSION:2.0
PRODID:-//ChamberMaster//Event Calendar 2.0//EN
METHOD:PUBLISH
X-PUBLISHED-TTL:P3D
REFRESH-INTERVAL:P3D
CALSCALE:GREGORIAN
BEGIN:VEVENT
DTSTART:20160413T210000Z
DTEND:20160413T220000Z
X-MICROSOFT-CDO-ALLDAYEVENT:FALSE
SUMMARY:RC: Kearney Bookmobile
DESCRIPTION:Join us in a ribbon cutting ceremony for the new and improved Bookmobile! It is also National Bookmobile Day! We will kickoff this celebration with a ribbon cutting followed by tours.
X-ALT-DESC;FMTTYPE=text/html:Join us in a ribbon cutting ceremony for the new and improved Bookmobile! It is also National Bookmobile Day! We will kickoff this celebration with a ribbon cutting followed by tours.
LOCATION:2020 1st Avenue Parking Lot
UID:e.1404.8536
SEQUENCE:3
DTSTAMP:20260422T012020Z
URL:https://chambermaster.kearneycoc.org/events/details/rc-kearney-bookmobile-04-13-2016-8536
END:VEVENT

END:VCALENDAR
