BEGIN:VCALENDAR
VERSION:2.0
PRODID:-//ChamberMaster//Event Calendar 2.0//EN
METHOD:PUBLISH
X-PUBLISHED-TTL:P3D
REFRESH-INTERVAL:P3D
CALSCALE:GREGORIAN
BEGIN:VEVENT
DTSTART:20141016T133000Z
DTEND:20141016T140000Z
X-MICROSOFT-CDO-ALLDAYEVENT:FALSE
SUMMARY:RC: Kearney Federal Credit Union at Emerson Elementary
DESCRIPTION:Ribbon Cutting Ceremony for the opening of Kearney Federal Credit Union in Emerson Elementary
X-ALT-DESC;FMTTYPE=text/html:Ribbon Cutting Ceremony for the opening of Kearney Federal Credit Union in Emerson Elementary
LOCATION:2705 Avenue E
UID:e.1404.5322
SEQUENCE:3
DTSTAMP:20260423T070129Z
URL:https://chambermaster.kearneycoc.org/events/details/rc-kearney-federal-credit-union-at-emerson-elementary-10-16-2014-5322
END:VEVENT

END:VCALENDAR
