BEGIN:VCALENDAR
VERSION:2.0
PRODID:-//ChamberMaster//Event Calendar 2.0//EN
METHOD:PUBLISH
X-PUBLISHED-TTL:P3D
REFRESH-INTERVAL:P3D
CALSCALE:GREGORIAN
BEGIN:VEVENT
DTSTART:20221005T200000Z
DTEND:20221005T230000Z
X-MICROSOFT-CDO-ALLDAYEVENT:FALSE
SUMMARY:RC - Kearney Flight Services and Denver Air Connect
DESCRIPTION:Join us for a ribbon cutting ceremony at 3:30 p.m. with Kearney Flight Services and Denver Air Connect!\n\nStop in anytime for the Open House from 3:00-6:00 p.m. for tours of a Denver Air Connect plane\, tours of the facility\, meet the Denver Air Connect crew and see the remodel plans for the Kearney Air terminal!\n\n\n\n*While you're there\, register to WIN one of 10-round trip tickets to Denver!
X-ALT-DESC;FMTTYPE=text/html:Join us for a ribbon cutting ceremony at 3:30 p.m. with Kearney Flight Services and Denver Air Connect!<br />\nStop in anytime for the Open House from 3:00-6:00 p.m.&nbsp\;for tours of a Denver Air Connect plane\, tours of the facility\, meet the Denver Air Connect crew and see the remodel plans for the Kearney Air terminal!<br />\n<br />\n<strong><em>*While you&#39\;re there\, register to WIN one of 10-round trip tickets to Denver!&nbsp\;</em></strong>
LOCATION:Kearney Flight Services/Kearney Regional Airport Flight Base Operations building 4985 Airport Road Kearney\, NE
UID:e.1404.20084
SEQUENCE:3
DTSTAMP:20260419T121558Z
URL:https://chambermaster.kearneycoc.org/events/details/rc-kearney-flight-services-and-denver-air-connect-20084
END:VEVENT

END:VCALENDAR
