BEGIN:VCALENDAR
VERSION:2.0
PRODID:-//ChamberMaster//Event Calendar 2.0//EN
METHOD:PUBLISH
X-PUBLISHED-TTL:P3D
REFRESH-INTERVAL:P3D
CALSCALE:GREGORIAN
BEGIN:VEVENT
DTSTART:20150922T210000Z
DTEND:20150922T213000Z
X-MICROSOFT-CDO-ALLDAYEVENT:FALSE
SUMMARY:RC: Kearney Physical Therapy
DESCRIPTION:Join us for a ribbon cutting ceremony at 4pm followed by an open house. Register to win a gift basket\, meet staff and tour their new facility!
X-ALT-DESC;FMTTYPE=text/html:Join us for a ribbon cutting ceremony at 4pm followed by an open house. Register to win a&nbsp\;gift basket\, meet staff and tour their new facility!
LOCATION:3219 Central Ave.\, Ste 105 1st Floor of the Medical Office Building Entrance at CHI
UID:e.1404.6708
SEQUENCE:3
DTSTAMP:20260422T114530Z
URL:https://chambermaster.kearneycoc.org/events/details/rc-kearney-physical-therapy-09-22-2015-6708
END:VEVENT

END:VCALENDAR
