BEGIN:VCALENDAR
VERSION:2.0
PRODID:-//ChamberMaster//Event Calendar 2.0//EN
METHOD:PUBLISH
X-PUBLISHED-TTL:P3D
REFRESH-INTERVAL:P3D
CALSCALE:GREGORIAN
BEGIN:VEVENT
DTSTART:20160425T223000Z
DTEND:20160425T230000Z
X-MICROSOFT-CDO-ALLDAYEVENT:FALSE
SUMMARY:RC: Kearney Water Trail
DESCRIPTION:Come and celebrate the opening of one of the most unique recreational amenities in Nebraska! Refreshments will be provided. Bring your kayak or canoe and join us for a float after the ribbon cutting.
X-ALT-DESC;FMTTYPE=text/html:Come and celebrate the opening of one of the most unique recreational amenities in Nebraska! Refreshments will be provided. Bring your kayak or canoe and join us for a float after the ribbon cutting.
LOCATION:at the water trail entrance landing at Yanney Park (off 11th Street)
UID:e.1404.8711
SEQUENCE:3
DTSTAMP:20260422T012144Z
URL:https://chambermaster.kearneycoc.org/events/details/rc-kearney-water-trail-04-25-2016-8711
END:VEVENT

END:VCALENDAR
