BEGIN:VCALENDAR
VERSION:2.0
PRODID:-//ChamberMaster//Event Calendar 2.0//EN
METHOD:PUBLISH
X-PUBLISHED-TTL:P3D
REFRESH-INTERVAL:P3D
CALSCALE:GREGORIAN
BEGIN:VEVENT
DTSTART:20160510T210000Z
DTEND:20160510T210000Z
X-MICROSOFT-CDO-ALLDAYEVENT:FALSE
SUMMARY:RC: Mac's Creek Wine Bar
DESCRIPTION:Join us for a ribbon cutting ceremony for the new Mac's Creek Wine Bar! Come check out their new place\, meet staff and enjoy refreshments!
X-ALT-DESC;FMTTYPE=text/html:Join us for a ribbon cutting ceremony for the new Mac&#39\;s Creek Wine Bar! Come check out their new place\, meet staff and enjoy refreshments!
LOCATION:421 W Talmadge Rd.\, Ste #1 Kearney\, NE 68845
UID:e.1404.8729
SEQUENCE:3
DTSTAMP:20260421T215827Z
URL:https://chambermaster.kearneycoc.org/events/details/rc-mac-s-creek-wine-bar-05-10-2016-8729
END:VEVENT

END:VCALENDAR
