BEGIN:VCALENDAR
VERSION:2.0
PRODID:-//ChamberMaster//Event Calendar 2.0//EN
METHOD:PUBLISH
X-PUBLISHED-TTL:P3D
REFRESH-INTERVAL:P3D
CALSCALE:GREGORIAN
BEGIN:VEVENT
DTSTART:20210521T140000Z
DTEND:20210521T150000Z
X-MICROSOFT-CDO-ALLDAYEVENT:FALSE
SUMMARY:RC - Mosquito Authority of Central Nebraska
DESCRIPTION:Join us for a Ribbon Cutting ceremony for Mosquito Authority of Central Nebraska!
X-ALT-DESC;FMTTYPE=text/html:Join us for a Ribbon Cutting ceremony for <a href="http://bugsbite.com" target="_blank">Mosquito Authority of Central Nebraska!</a>
LOCATION:Kearney Area Chamber of Commerce Parking Lot 1007 2nd Ave
UID:e.1404.19316
SEQUENCE:3
DTSTAMP:20260424T102347Z
URL:https://chambermaster.kearneycoc.org/events/details/rc-mosquito-authority-of-central-nebraska-19316
END:VEVENT

END:VCALENDAR
