BEGIN:VCALENDAR
VERSION:2.0
PRODID:-//ChamberMaster//Event Calendar 2.0//EN
METHOD:PUBLISH
X-PUBLISHED-TTL:P3D
REFRESH-INTERVAL:P3D
CALSCALE:GREGORIAN
BEGIN:VEVENT
DTSTART:20141028T163000Z
DTEND:20141028T170000Z
X-MICROSOFT-CDO-ALLDAYEVENT:FALSE
SUMMARY:RC-Napoli's
DESCRIPTION:Ribbon Cutting Ceremony for the new Italian Restaurant-Napoli's! Stay for lunch afterwards!
X-ALT-DESC;FMTTYPE=text/html:Ribbon Cutting Ceremony for the new Italian Restaurant-Napoli&#39\;s! Stay for lunch afterwards!
LOCATION:320 3rd Avenue
UID:e.1404.5372
SEQUENCE:3
DTSTAMP:20260423T065605Z
URL:https://chambermaster.kearneycoc.org/events/details/rc-napoli-s-10-28-2014-5372
END:VEVENT

END:VCALENDAR
