BEGIN:VCALENDAR
VERSION:2.0
PRODID:-//ChamberMaster//Event Calendar 2.0//EN
METHOD:PUBLISH
X-PUBLISHED-TTL:P3D
REFRESH-INTERVAL:P3D
CALSCALE:GREGORIAN
BEGIN:VEVENT
DTSTART:20220728T213000Z
DTEND:20220728T223000Z
X-MICROSOFT-CDO-ALLDAYEVENT:FALSE
SUMMARY:RC Nebraska Kinesiology Center
DESCRIPTION:Join us to celebrate the NEW location for the Nebraska Kinesiology Center!
X-ALT-DESC;FMTTYPE=text/html:Join us to celebrate the NEW location for the Nebraska Kinesiology Center!
LOCATION:Nebraska Kinesiology Center 8 W 56th Street\, Ste A1 Kearney\, NE 68847
UID:e.1404.20036
SEQUENCE:3
DTSTAMP:20260421T132802Z
URL:https://chambermaster.kearneycoc.org/events/details/rc-nebraska-kinesiology-center-20036
END:VEVENT

END:VCALENDAR
