BEGIN:VCALENDAR
VERSION:2.0
PRODID:-//ChamberMaster//Event Calendar 2.0//EN
METHOD:PUBLISH
X-PUBLISHED-TTL:P3D
REFRESH-INTERVAL:P3D
CALSCALE:GREGORIAN
BEGIN:VEVENT
DTSTART:20210716T180000Z
DTEND:20210716T190000Z
X-MICROSOFT-CDO-ALLDAYEVENT:FALSE
SUMMARY:RC - Pinon Market
DESCRIPTION:Please join us for a Ribbon Cutting to celebrate Pinon Market\, Kearney's newest ethnic food and variety store!
X-ALT-DESC;FMTTYPE=text/html:Please join us for a Ribbon Cutting to celebrate Pinon Market\, Kearney&#39\;s newest ethnic food and variety store!
LOCATION:527 E 25th Kearney\, NE 68847
UID:e.1404.19340
SEQUENCE:3
DTSTAMP:20260424T060409Z
URL:https://chambermaster.kearneycoc.org/events/details/rc-pinon-market-19340
END:VEVENT

END:VCALENDAR
