BEGIN:VCALENDAR
VERSION:2.0
PRODID:-//ChamberMaster//Event Calendar 2.0//EN
METHOD:PUBLISH
X-PUBLISHED-TTL:P3D
REFRESH-INTERVAL:P3D
CALSCALE:GREGORIAN
BEGIN:VEVENT
DTSTART:20200128T220000Z
DTEND:20200128T223000Z
X-MICROSOFT-CDO-ALLDAYEVENT:FALSE
SUMMARY:RC - Platte Valley Medical Group\, Orthopedics & Podiatry Clinic
DESCRIPTION:Join us for a Ribbon Cutting ceremony for the Platte Valley Medical Group\, Orthopedics & Podiatry Clinic.
X-ALT-DESC;FMTTYPE=text/html:Join us for a Ribbon Cutting ceremony for the <a href="https://plattevalleymed.com/">Platte Valley Medical Group\, Orthopedics &amp\; Podiatry Clinic</a>.
LOCATION:816 22nd Ave.
UID:e.1404.18301
SEQUENCE:3
DTSTAMP:20260425T134433Z
URL:https://chambermaster.kearneycoc.org/events/details/rc-platte-valley-medical-group-orthopedics-podiatry-clinic-18301
END:VEVENT

END:VCALENDAR
