BEGIN:VCALENDAR
VERSION:2.0
PRODID:-//ChamberMaster//Event Calendar 2.0//EN
METHOD:PUBLISH
X-PUBLISHED-TTL:P3D
REFRESH-INTERVAL:P3D
CALSCALE:GREGORIAN
BEGIN:VEVENT
DTSTART:20220706T210000Z
DTEND:20220706T220000Z
X-MICROSOFT-CDO-ALLDAYEVENT:FALSE
SUMMARY:RC - Regenirex\, LLC
DESCRIPTION:Join us to celebrate Regenirex\, LLC as a new Chamber member and a new location!
X-ALT-DESC;FMTTYPE=text/html:Join us to celebrate Regenirex\, LLC as a new Chamber member and a new location!
LOCATION:5205 2nd Ave. Suite 1 Kearney\, NE 68847
UID:e.1404.19680
SEQUENCE:3
DTSTAMP:20260421T132247Z
URL:https://chambermaster.kearneycoc.org/events/details/rc-regenirex-llc-19680
END:VEVENT

END:VCALENDAR
